BEGIN:VCALENDAR
VERSION:2.0
PRODID:-//Blue Dragon Tavern &amp; Cosmic Musiquarium - ECPv5.0.3.1//NONSGML v1.0//EN
CALSCALE:GREGORIAN
METHOD:PUBLISH
X-WR-CALNAME:Blue Dragon Tavern &amp; Cosmic Musiquarium
X-ORIGINAL-URL:https://www.bluedragontavern.com
X-WR-CALDESC:Events for Blue Dragon Tavern &amp; Cosmic Musiquarium
BEGIN:VTIMEZONE
TZID:Pacific/Honolulu
BEGIN:STANDARD
TZOFFSETFROM:-1000
TZOFFSETTO:-1000
TZNAME:HST
DTSTART:20260101T000000
END:STANDARD
END:VTIMEZONE
BEGIN:VEVENT
DTSTART;TZID=Pacific/Honolulu:20260410T183000
DTEND;TZID=Pacific/Honolulu:20260410T213000
DTSTAMP:20260425T160507
CREATED:20260406T202628Z
LAST-MODIFIED:20260406T202628Z
UID:6644-1775845800-1775856600@www.bluedragontavern.com
SUMMARY:BASS BIAS
DESCRIPTION: \nBass Bias features the dynamic bass playing duo of Delphina Dorrance on upright bass/lead vocals and Dave Ojeda on electric bass. These two bassists seamlessly blend together elements of conscious indie rock\, reggae\, folk\, blues\, and jazz to create a sound all their own. No strangers to the Hawaii music scene\, Delphina performs in the Pau Hana Pickers\, Kamuela Philharmonic Orchestra\, Maui Chamber and Pops Orchestras\, and the Blue Dragon Jazz Trio….while Dave performs in Uncle Charlie and formerly with Bottle of Blue. Bass Bias covers a wide variety of artists from Bob Marley to the White Stripes\, and also performs original songs penned by Delphina. Joining them will be Warren Nelson on keyboard\, Jonathan Brooke on guitar\, and Tim Taylor on drums. \n\nDoors 5pm…Show 6:30pm. Tickets are $10 in advance…$13 at the door (children 12 and under are free). Purchase tickets here. \n\n
URL:https://www.bluedragontavern.com/events/bass-bias-10/
LOCATION:Blue Dragon Tavern\, 61-3616 Kawaihae Rd.\, Kawaihae\, HI\, 96743\, United States
END:VEVENT
END:VCALENDAR