BEGIN:VCALENDAR
VERSION:2.0
PRODID:-//Blue Dragon Tavern &amp; Cosmic Musiquarium - ECPv5.0.3.1//NONSGML v1.0//EN
CALSCALE:GREGORIAN
METHOD:PUBLISH
X-WR-CALNAME:Blue Dragon Tavern &amp; Cosmic Musiquarium
X-ORIGINAL-URL:https://www.bluedragontavern.com
X-WR-CALDESC:Events for Blue Dragon Tavern &amp; Cosmic Musiquarium
BEGIN:VTIMEZONE
TZID:Pacific/Honolulu
BEGIN:STANDARD
TZOFFSETFROM:-1000
TZOFFSETTO:-1000
TZNAME:HST
DTSTART:20260101T000000
END:STANDARD
END:VTIMEZONE
BEGIN:VEVENT
DTSTART;TZID=Pacific/Honolulu:20260419T183000
DTEND;TZID=Pacific/Honolulu:20260419T210000
DTSTAMP:20260425T160642
CREATED:20260413T182029Z
LAST-MODIFIED:20260413T182029Z
UID:6668-1776623400-1776632400@www.bluedragontavern.com
SUMMARY:Lila & Yumbel
DESCRIPTION: \nCome experience an unforgettable evening of original music with Lila & Yumbel Marassi. This dynamic duo blends rich cultural influences with captivating artistry\, delivering performances that resonate deeply with audiences of all backgrounds. \nWith roots in Argentina and Hawaii\, their music blends soulful bass lines\, rich vocal harmonies\, and meaningful lyrics that truly connect. From vibrant rhythms to heartfelt storytelling\, every performance is a journey. \nYumbel Marassi\, a charismatic Argentinian musician and cultural ambassador of El Bolsón\, is the leader of Fuego Latin Orchestra Hawaii. An accomplished bassist and vocalist his artistry is shaped by a life as diverse as his music. \nLila Marassi\, born and raised in Hawaii\, is a gifted vocalist\, songwriter\, and performer. Having lived in Argentina for seven years\, she brings a beautiful fusion of island warmth and Latin soul to the stage. \nJoin us for an evening of passion\, culture\, and unforgettable music that will move both heart and spirit. \nSongs from the soul for lovers of music! Don’t miss this unique live performance!! \nSunday\, April 19th from 6:30-9:00pm. Purchase tickets here. \nThe guest chef for this show is Fish from Cool Runnings Jamaican Food Truck. Visit BlueDragonTavern.com for menu options. \n
URL:https://www.bluedragontavern.com/events/lila-yumbel/
LOCATION:Blue Dragon Tavern\, 61-3616 Kawaihae Rd.\, Kawaihae\, HI\, 96743\, United States
END:VEVENT
END:VCALENDAR