BEGIN:VCALENDAR
VERSION:2.0
PRODID:-//Blue Dragon Tavern &amp; Cosmic Musiquarium - ECPv5.0.3.1//NONSGML v1.0//EN
CALSCALE:GREGORIAN
METHOD:PUBLISH
X-WR-CALNAME:Blue Dragon Tavern &amp; Cosmic Musiquarium
X-ORIGINAL-URL:https://www.bluedragontavern.com
X-WR-CALDESC:Events for Blue Dragon Tavern &amp; Cosmic Musiquarium
BEGIN:VTIMEZONE
TZID:Pacific/Honolulu
BEGIN:STANDARD
TZOFFSETFROM:-1000
TZOFFSETTO:-1000
TZNAME:HST
DTSTART:20260101T000000
END:STANDARD
END:VTIMEZONE
BEGIN:VEVENT
DTSTART;TZID=Pacific/Honolulu:20260411T183000
DTEND;TZID=Pacific/Honolulu:20260411T213000
DTSTAMP:20260425T155855
CREATED:20260407T213048Z
LAST-MODIFIED:20260407T213048Z
UID:6656-1775932200-1775943000@www.bluedragontavern.com
SUMMARY:Shane Love & Selecta Quality with Kai Boy
DESCRIPTION: \nJoin us for an evening of high vibes and dancehall reggae with Shane Love & Selecta Quality with special guest Kai Boy. \nDoors at 5pm…show 6:30pm. Tickets are $10 in advance…$13 at the door. Purchase tickets here. \n
URL:https://www.bluedragontavern.com/events/shane-love-selecta-quality-with-kai-boy/
LOCATION:Blue Dragon Tavern\, 61-3616 Kawaihae Rd.\, Kawaihae\, HI\, 96743\, United States
END:VEVENT
END:VCALENDAR